BEGIN:VCALENDAR
VERSION:2.0
PRODID:-//GEPETTO CLUB - ECPv6.0.8//NONSGML v1.0//EN
CALSCALE:GREGORIAN
METHOD:PUBLISH
X-WR-CALNAME:GEPETTO CLUB
X-ORIGINAL-URL:https://www.gepetto-club.de
X-WR-CALDESC:Veranstaltungen für GEPETTO CLUB
REFRESH-INTERVAL;VALUE=DURATION:PT1H
X-Robots-Tag:noindex
X-PUBLISHED-TTL:PT1H
BEGIN:VTIMEZONE
TZID:Europe/Berlin
BEGIN:DAYLIGHT
TZOFFSETFROM:+0100
TZOFFSETTO:+0200
TZNAME:CEST
DTSTART:20230326T010000
END:DAYLIGHT
BEGIN:STANDARD
TZOFFSETFROM:+0200
TZOFFSETTO:+0100
TZNAME:CET
DTSTART:20231029T010000
END:STANDARD
END:VTIMEZONE
BEGIN:VEVENT
DTSTART;TZID=Europe/Berlin:20230925T183000
DTEND;TZID=Europe/Berlin:20230925T210000
DTSTAMP:20260420T101529
CREATED:20230624T031436Z
LAST-MODIFIED:20230624T031436Z
UID:10000042-1695666600-1695675600@www.gepetto-club.de
SUMMARY:Holzmosaik Kurs – Mo. 25. Sep ’23
DESCRIPTION:
URL:https://www.gepetto-club.de/event/holzmosaik-kurs-mo-25-sep-23/
LOCATION:BeachMitte\, Caroline-Michaelis-Straße 8\, Berlin\, Berlin\, 10115
ORGANIZER;CN="Gepetto%20Club%20GbR":MAILTO:kontakt@gepetto-club.de
END:VEVENT
BEGIN:VEVENT
DTSTART;TZID=Europe/Berlin:20230918T183000
DTEND;TZID=Europe/Berlin:20230918T210000
DTSTAMP:20260420T101529
CREATED:20250624T031316Z
LAST-MODIFIED:20240926T191807Z
UID:10000041-1695061800-1695070800@www.gepetto-club.de
SUMMARY:Holzmosaik Kurs – Mo. 18. Sep ’23
DESCRIPTION:
URL:https://www.gepetto-club.de/event/holzmosaik-kurs-mo-18-sep-23/
LOCATION:BeachMitte\, Caroline-Michaelis-Straße 8\, Berlin\, Berlin\, 10115
ORGANIZER;CN="Gepetto%20Club%20GbR":MAILTO:kontakt@gepetto-club.de
END:VEVENT
BEGIN:VEVENT
DTSTART;TZID=Europe/Berlin:20230911T183000
DTEND;TZID=Europe/Berlin:20230911T210000
DTSTAMP:20260420T101529
CREATED:20230624T031149Z
LAST-MODIFIED:20230624T031149Z
UID:10000040-1694457000-1694466000@www.gepetto-club.de
SUMMARY:Holzmosaik Kurs – Mo. 11. Sep ’23
DESCRIPTION:
URL:https://www.gepetto-club.de/event/holzmosaik-kurs-mo-11-sep-23/
LOCATION:BeachMitte\, Caroline-Michaelis-Straße 8\, Berlin\, Berlin\, 10115
ORGANIZER;CN="Gepetto%20Club%20GbR":MAILTO:kontakt@gepetto-club.de
END:VEVENT
BEGIN:VEVENT
DTSTART;TZID=Europe/Berlin:20230821T183000
DTEND;TZID=Europe/Berlin:20230821T210000
DTSTAMP:20260420T101529
CREATED:20230624T030641Z
LAST-MODIFIED:20230624T030641Z
UID:10000037-1692642600-1692651600@www.gepetto-club.de
SUMMARY:Holzmosaik Kurs – Mo. 21. Aug ’23
DESCRIPTION:
URL:https://www.gepetto-club.de/event/holzmosaik-kurs-mo-21-aug-23/
LOCATION:BeachMitte\, Caroline-Michaelis-Straße 8\, Berlin\, Berlin\, 10115
ORGANIZER;CN="Gepetto%20Club%20GbR":MAILTO:kontakt@gepetto-club.de
END:VEVENT
BEGIN:VEVENT
DTSTART;TZID=Europe/Berlin:20230731T183000
DTEND;TZID=Europe/Berlin:20230731T210000
DTSTAMP:20260420T101529
CREATED:20230624T030222Z
LAST-MODIFIED:20230624T030222Z
UID:10000034-1690828200-1690837200@www.gepetto-club.de
SUMMARY:Holzmosaik Kurs – Mo. 31. Jul ’23
DESCRIPTION:
URL:https://www.gepetto-club.de/event/holzmosaik-kurs-mo-31-jul-23/
LOCATION:BeachMitte\, Caroline-Michaelis-Straße 8\, Berlin\, Berlin\, 10115
ATTACH;FMTTYPE=image/jpeg:https://www.gepetto-club.de/wp-content/uploads/2023/03/ILV00057.jpg
ORGANIZER;CN="Gepetto%20Club%20GbR":MAILTO:kontakt@gepetto-club.de
END:VEVENT
BEGIN:VEVENT
DTSTART;TZID=Europe/Berlin:20230724T183000
DTEND;TZID=Europe/Berlin:20230724T210000
DTSTAMP:20260420T101529
CREATED:20230624T030007Z
LAST-MODIFIED:20230624T030007Z
UID:10000033-1690223400-1690232400@www.gepetto-club.de
SUMMARY:Holzmosaik Kurs – Mo. 24. Jul ’23
DESCRIPTION:
URL:https://www.gepetto-club.de/event/holzmosaik-kurs-mo-24-jul-23/
LOCATION:BeachMitte\, Caroline-Michaelis-Straße 8\, Berlin\, Berlin\, 10115
ORGANIZER;CN="Gepetto%20Club%20GbR":MAILTO:kontakt@gepetto-club.de
END:VEVENT
BEGIN:VEVENT
DTSTART;TZID=Europe/Berlin:20230710T183000
DTEND;TZID=Europe/Berlin:20230710T210000
DTSTAMP:20260420T101529
CREATED:20230624T025317Z
LAST-MODIFIED:20230624T025317Z
UID:10000031-1689013800-1689022800@www.gepetto-club.de
SUMMARY:Holzmosaik Kurs – Mo. 10. Jul ’23
DESCRIPTION:
URL:https://www.gepetto-club.de/event/holzmosaik-kurs-mo-10-jul-23/
LOCATION:BeachMitte\, Caroline-Michaelis-Straße 8\, Berlin\, Berlin\, 10115
ATTACH;FMTTYPE=image/jpeg:https://www.gepetto-club.de/wp-content/uploads/2023/03/ILV00159.jpg
ORGANIZER;CN="Gepetto%20Club%20GbR":MAILTO:kontakt@gepetto-club.de
END:VEVENT
BEGIN:VEVENT
DTSTART;TZID=Europe/Berlin:20230622T183000
DTEND;TZID=Europe/Berlin:20230622T210000
DTSTAMP:20260420T101529
CREATED:20230530T163635Z
LAST-MODIFIED:20230530T201649Z
UID:10000027-1687458600-1687467600@www.gepetto-club.de
SUMMARY:Holzmosaik Kurs – Do. 22. Jun '23
DESCRIPTION:
URL:https://www.gepetto-club.de/event/holzmosaik-kurs-do-22-jun-23/
LOCATION:Agatha Hopfen\, Revaler Str. 99\, Berlin\, Berlin\, 10245\, Deutschland
CATEGORIES:Holzkurs
ATTACH;FMTTYPE=image/jpeg:https://www.gepetto-club.de/wp-content/uploads/2023/03/ILV00054.jpg
ORGANIZER;CN="Gepetto%20Club%20GbR":MAILTO:kontakt@gepetto-club.de
END:VEVENT
BEGIN:VEVENT
DTSTART;TZID=Europe/Berlin:20230513T160000
DTEND;TZID=Europe/Berlin:20230513T183000
DTSTAMP:20260420T101529
CREATED:20230424T135335Z
LAST-MODIFIED:20230424T135335Z
UID:10000021-1683993600-1684002600@www.gepetto-club.de
SUMMARY:Holzmosaik Kurs – Sa. 13. Mai ’23
DESCRIPTION:
URL:https://www.gepetto-club.de/event/holzmosaik-kurs-sa-13-mai-23/
LOCATION:Agatha Hopfen\, Revaler Str. 99\, Berlin\, Berlin\, 10245\, Deutschland
ORGANIZER;CN="Gepetto%20Club%20GbR":MAILTO:kontakt@gepetto-club.de
END:VEVENT
BEGIN:VEVENT
DTSTART;TZID=Europe/Berlin:20230425T183000
DTEND;TZID=Europe/Berlin:20230425T210000
DTSTAMP:20260420T101529
CREATED:20230214T122629Z
LAST-MODIFIED:20230324T085850Z
UID:10000016-1682447400-1682456400@www.gepetto-club.de
SUMMARY:Holzmosaik Kurs - Di. 25. April '23
DESCRIPTION:
URL:https://www.gepetto-club.de/event/holzmosaik-kurs-di-25-april-23/
LOCATION:BeachMitte\, Caroline-Michaelis-Straße 8\, Berlin\, Berlin\, 10115
ATTACH;FMTTYPE=image/jpeg:https://www.gepetto-club.de/wp-content/uploads/2022/07/ILV00054.jpg
ORGANIZER;CN="Gepetto%20Club%20GbR":MAILTO:kontakt@gepetto-club.de
END:VEVENT
END:VCALENDAR