BEGIN:VCALENDAR
VERSION:2.0
PRODID:-//GEPETTO CLUB - ECPv6.0.8//NONSGML v1.0//EN
CALSCALE:GREGORIAN
METHOD:PUBLISH
X-WR-CALNAME:GEPETTO CLUB
X-ORIGINAL-URL:https://www.gepetto-club.de
X-WR-CALDESC:Veranstaltungen für GEPETTO CLUB
REFRESH-INTERVAL;VALUE=DURATION:PT1H
X-Robots-Tag:noindex
X-PUBLISHED-TTL:PT1H
BEGIN:VTIMEZONE
TZID:Europe/Berlin
BEGIN:DAYLIGHT
TZOFFSETFROM:+0100
TZOFFSETTO:+0200
TZNAME:CEST
DTSTART:20230326T010000
END:DAYLIGHT
BEGIN:STANDARD
TZOFFSETFROM:+0200
TZOFFSETTO:+0100
TZNAME:CET
DTSTART:20231029T010000
END:STANDARD
END:VTIMEZONE
BEGIN:VEVENT
DTSTART;TZID=Europe/Berlin:20230513T160000
DTEND;TZID=Europe/Berlin:20230513T183000
DTSTAMP:20260420T150144
CREATED:20230424T135335Z
LAST-MODIFIED:20230424T135335Z
UID:10000021-1683993600-1684002600@www.gepetto-club.de
SUMMARY:Holzmosaik Kurs – Sa. 13. Mai ’23
DESCRIPTION:
URL:https://www.gepetto-club.de/event/holzmosaik-kurs-sa-13-mai-23/
LOCATION:Agatha Hopfen\, Revaler Str. 99\, Berlin\, Berlin\, 10245\, Deutschland
ORGANIZER;CN="Gepetto%20Club%20GbR":MAILTO:kontakt@gepetto-club.de
END:VEVENT
BEGIN:VEVENT
DTSTART;TZID=Europe/Berlin:20230517T183000
DTEND;TZID=Europe/Berlin:20230517T210000
DTSTAMP:20260420T150144
CREATED:20230424T135737Z
LAST-MODIFIED:20230424T135737Z
UID:10000022-1684348200-1684357200@www.gepetto-club.de
SUMMARY:Holzmosaik Kurs – Mi. 17. Mai '23
DESCRIPTION:
URL:https://www.gepetto-club.de/event/holzmosaik-kurs-mi-17-mai-23/
LOCATION:Agatha Hopfen\, Revaler Str. 99\, Berlin\, Berlin\, 10245\, Deutschland
END:VEVENT
BEGIN:VEVENT
DTSTART;TZID=Europe/Berlin:20230622T183000
DTEND;TZID=Europe/Berlin:20230622T210000
DTSTAMP:20260420T150144
CREATED:20230530T163635Z
LAST-MODIFIED:20230530T201649Z
UID:10000027-1687458600-1687467600@www.gepetto-club.de
SUMMARY:Holzmosaik Kurs – Do. 22. Jun '23
DESCRIPTION:
URL:https://www.gepetto-club.de/event/holzmosaik-kurs-do-22-jun-23/
LOCATION:Agatha Hopfen\, Revaler Str. 99\, Berlin\, Berlin\, 10245\, Deutschland
CATEGORIES:Holzkurs
ATTACH;FMTTYPE=image/jpeg:https://www.gepetto-club.de/wp-content/uploads/2023/03/ILV00054.jpg
ORGANIZER;CN="Gepetto%20Club%20GbR":MAILTO:kontakt@gepetto-club.de
END:VEVENT
END:VCALENDAR